BEGIN:VCALENDAR
VERSION:2.0
PRODID:-//pro Dessau-Roßlau - ECPv6.15.20//NONSGML v1.0//EN
CALSCALE:GREGORIAN
METHOD:PUBLISH
X-WR-CALNAME:pro Dessau-Roßlau
X-ORIGINAL-URL:https://www.prodessau.de
X-WR-CALDESC:Veranstaltungen für pro Dessau-Roßlau
REFRESH-INTERVAL;VALUE=DURATION:PT1H
X-Robots-Tag:noindex
X-PUBLISHED-TTL:PT1H
BEGIN:VTIMEZONE
TZID:Europe/Berlin
BEGIN:DAYLIGHT
TZOFFSETFROM:+0100
TZOFFSETTO:+0200
TZNAME:CEST
DTSTART:20250330T010000
END:DAYLIGHT
BEGIN:STANDARD
TZOFFSETFROM:+0200
TZOFFSETTO:+0100
TZNAME:CET
DTSTART:20251026T010000
END:STANDARD
BEGIN:DAYLIGHT
TZOFFSETFROM:+0100
TZOFFSETTO:+0200
TZNAME:CEST
DTSTART:20260329T010000
END:DAYLIGHT
BEGIN:STANDARD
TZOFFSETFROM:+0200
TZOFFSETTO:+0100
TZNAME:CET
DTSTART:20261025T010000
END:STANDARD
BEGIN:DAYLIGHT
TZOFFSETFROM:+0100
TZOFFSETTO:+0200
TZNAME:CEST
DTSTART:20270328T010000
END:DAYLIGHT
BEGIN:STANDARD
TZOFFSETFROM:+0200
TZOFFSETTO:+0100
TZNAME:CET
DTSTART:20271031T010000
END:STANDARD
END:VTIMEZONE
BEGIN:VEVENT
DTSTART;TZID=Europe/Berlin:20260421T173000
DTEND;TZID=Europe/Berlin:20260421T183000
DTSTAMP:20260421T140335
CREATED:20260413T151949Z
LAST-MODIFIED:20260413T153032Z
UID:1846-1776792600-1776796200@www.prodessau.de
SUMMARY:Stadtbezirksbeirat Alten\, West\, Zoberberg
DESCRIPTION:
URL:https://www.prodessau.de/event/stadtbezirksbeirat-alten-west-zoberberg/
LOCATION:Freiwillige Feuerwehr Dessau-Alten
END:VEVENT
END:VCALENDAR