BEGIN:VCALENDAR
VERSION:2.0
PRODID:-//pro Dessau-Roßlau - ECPv6.15.20//NONSGML v1.0//EN
CALSCALE:GREGORIAN
METHOD:PUBLISH
X-ORIGINAL-URL:https://www.prodessau.de
X-WR-CALDESC:Veranstaltungen für pro Dessau-Roßlau
REFRESH-INTERVAL;VALUE=DURATION:PT1H
X-Robots-Tag:noindex
X-PUBLISHED-TTL:PT1H
BEGIN:VTIMEZONE
TZID:Europe/Berlin
BEGIN:DAYLIGHT
TZOFFSETFROM:+0100
TZOFFSETTO:+0200
TZNAME:CEST
DTSTART:20230326T010000
END:DAYLIGHT
BEGIN:STANDARD
TZOFFSETFROM:+0200
TZOFFSETTO:+0100
TZNAME:CET
DTSTART:20231029T010000
END:STANDARD
BEGIN:DAYLIGHT
TZOFFSETFROM:+0100
TZOFFSETTO:+0200
TZNAME:CEST
DTSTART:20240331T010000
END:DAYLIGHT
BEGIN:STANDARD
TZOFFSETFROM:+0200
TZOFFSETTO:+0100
TZNAME:CET
DTSTART:20241027T010000
END:STANDARD
BEGIN:DAYLIGHT
TZOFFSETFROM:+0100
TZOFFSETTO:+0200
TZNAME:CEST
DTSTART:20250330T010000
END:DAYLIGHT
BEGIN:STANDARD
TZOFFSETFROM:+0200
TZOFFSETTO:+0100
TZNAME:CET
DTSTART:20251026T010000
END:STANDARD
END:VTIMEZONE
BEGIN:VEVENT
DTSTART;TZID=Europe/Berlin:20240415T170000
DTEND;TZID=Europe/Berlin:20240415T193000
DTSTAMP:20260421T140248
CREATED:20240313T084118Z
LAST-MODIFIED:20240313T084418Z
UID:1283-1713200400-1713209400@www.prodessau.de
SUMMARY:Fraktionssitzung
DESCRIPTION:
URL:https://www.prodessau.de/event/fraktionssitzung-4/
LOCATION:Fraktionsbüro\, Poststr. 6\, Dessau-Roßlau\, 06844\, Deutschland
END:VEVENT
BEGIN:VEVENT
DTSTART;TZID=Europe/Berlin:20240417T160000
DTEND;TZID=Europe/Berlin:20240417T190000
DTSTAMP:20260421T140248
CREATED:20240313T083959Z
LAST-MODIFIED:20240313T084621Z
UID:1281-1713369600-1713380400@www.prodessau.de
SUMMARY:Stadtrat
DESCRIPTION:
URL:https://www.prodessau.de/event/stadtrat/
LOCATION:DVV
END:VEVENT
BEGIN:VEVENT
DTSTART;TZID=Europe/Berlin:20240420T190000
DTEND;TZID=Europe/Berlin:20240420T220000
DTSTAMP:20260421T140248
CREATED:20240420T164931Z
LAST-MODIFIED:20240420T165558Z
UID:1437-1713639600-1713650400@www.prodessau.de
SUMMARY:Treffen Sie uns!
DESCRIPTION:Triff uns am Doppelspieltag! Wir sind vor Ort!
URL:https://www.prodessau.de/event/dessau-volleys-heimspiel/
LOCATION:Sporthalle der Friedensschule
ATTACH;FMTTYPE=image/jpeg:https://www.prodessau.de/wp-content/uploads/2024/04/98809d25-edbc-4dfb-a7c6-2f2c2aee018d.jpeg
END:VEVENT
BEGIN:VEVENT
DTSTART;TZID=Europe/Berlin:20240421T150000
DTEND;TZID=Europe/Berlin:20240421T170000
DTSTAMP:20260421T140248
CREATED:20240420T165108Z
LAST-MODIFIED:20240420T165531Z
UID:1442-1713711600-1713718800@www.prodessau.de
SUMMARY:Treffen Sie uns!
DESCRIPTION:Triff uns beim Volleyball! Wir sind vor Ort!
URL:https://www.prodessau.de/event/dessau-volleys-2-bundesliga-heimspiel/
ATTACH;FMTTYPE=image/jpeg:https://www.prodessau.de/wp-content/uploads/2024/04/a46b9188-b6b0-4406-886f-26a3a3d14f78.jpeg
END:VEVENT
BEGIN:VEVENT
DTSTART;TZID=Europe/Berlin:20240426T143000
DTEND;TZID=Europe/Berlin:20240426T170000
DTSTAMP:20260421T140248
CREATED:20240425T111444Z
LAST-MODIFIED:20240425T111444Z
UID:1449-1714141800-1714150800@www.prodessau.de
SUMMARY:Quartiersfest & Wimpelrekord
DESCRIPTION:
URL:https://www.prodessau.de/event/quartiersfest-wimpelrekord/
LOCATION:vor dem Behindertenverband – Radegaster Straße 1
END:VEVENT
END:VCALENDAR