BEGIN:VCALENDAR
VERSION:2.0
PRODID:-//pro Dessau-Roßlau - ECPv6.15.20//NONSGML v1.0//EN
CALSCALE:GREGORIAN
METHOD:PUBLISH
X-ORIGINAL-URL:https://www.prodessau.de
X-WR-CALDESC:Veranstaltungen für pro Dessau-Roßlau
REFRESH-INTERVAL;VALUE=DURATION:PT1H
X-Robots-Tag:noindex
X-PUBLISHED-TTL:PT1H
BEGIN:VTIMEZONE
TZID:Europe/Berlin
BEGIN:DAYLIGHT
TZOFFSETFROM:+0100
TZOFFSETTO:+0200
TZNAME:CEST
DTSTART:20230326T010000
END:DAYLIGHT
BEGIN:STANDARD
TZOFFSETFROM:+0200
TZOFFSETTO:+0100
TZNAME:CET
DTSTART:20231029T010000
END:STANDARD
BEGIN:DAYLIGHT
TZOFFSETFROM:+0100
TZOFFSETTO:+0200
TZNAME:CEST
DTSTART:20240331T010000
END:DAYLIGHT
BEGIN:STANDARD
TZOFFSETFROM:+0200
TZOFFSETTO:+0100
TZNAME:CET
DTSTART:20241027T010000
END:STANDARD
BEGIN:DAYLIGHT
TZOFFSETFROM:+0100
TZOFFSETTO:+0200
TZNAME:CEST
DTSTART:20250330T010000
END:DAYLIGHT
BEGIN:STANDARD
TZOFFSETFROM:+0200
TZOFFSETTO:+0100
TZNAME:CET
DTSTART:20251026T010000
END:STANDARD
END:VTIMEZONE
BEGIN:VEVENT
DTSTART;TZID=Europe/Berlin:20240513T153000
DTEND;TZID=Europe/Berlin:20240513T160000
DTSTAMP:20260421T123826
CREATED:20240503T062314Z
LAST-MODIFIED:20240503T062314Z
UID:1506-1715614200-1715616000@www.prodessau.de
SUMMARY:MZ - Speeddating
DESCRIPTION:Kommt mit uns vor der MZ-Lokalredaktion ins Gespräch! \nNorbert Specht \nThomas Picek \nMarco Egelkraut
URL:https://www.prodessau.de/event/mz-speeddating/
LOCATION:MZ Lokalredaktion\, Kavalierstr. 74\, Dessau-Roßlau\, 06844\, Deutschland
END:VEVENT
BEGIN:VEVENT
DTSTART;TZID=Europe/Berlin:20240513T170000
DTEND;TZID=Europe/Berlin:20240513T193000
DTSTAMP:20260421T123826
CREATED:20240313T084306Z
LAST-MODIFIED:20240313T084439Z
UID:1285-1715619600-1715628600@www.prodessau.de
SUMMARY:Fraktionssitzung
DESCRIPTION:
URL:https://www.prodessau.de/event/fraktionssitzung-5/
LOCATION:Fraktionsbüro\, Poststr. 6\, Dessau-Roßlau\, 06844\, Deutschland
END:VEVENT
BEGIN:VEVENT
DTSTART;TZID=Europe/Berlin:20240515T160000
DTEND;TZID=Europe/Berlin:20240515T190000
DTSTAMP:20260421T123826
CREATED:20240313T084715Z
LAST-MODIFIED:20240313T084929Z
UID:1289-1715788800-1715799600@www.prodessau.de
SUMMARY:Stadtrat
DESCRIPTION:
URL:https://www.prodessau.de/event/stadtrat-2/
LOCATION:DVV
END:VEVENT
BEGIN:VEVENT
DTSTART;TZID=Europe/Berlin:20240516T160000
DTEND;TZID=Europe/Berlin:20240516T180000
DTSTAMP:20260421T123826
CREATED:20240503T062805Z
LAST-MODIFIED:20240503T062805Z
UID:1511-1715875200-1715882400@www.prodessau.de
SUMMARY:Infoveranstaltung für Erstwähler
DESCRIPTION:Ab 16 dürft Ihr mitwählen! \nWir beantworten Eure Fragen rund um die Kommunalpolitik.\nFraktionsvorsitzender Thomas Picek ist vor Ort. \nThomas Picek
URL:https://www.prodessau.de/event/infoveranstaltung-fuer-erstwaehler/
LOCATION:mitmach.lokal\, Kavalierstraße 37\, Dessau-Roßlau\, 06844\, Deutschland
END:VEVENT
END:VCALENDAR