BEGIN:VCALENDAR
VERSION:2.0
PRODID:-//pro Dessau-Roßlau - ECPv6.15.20//NONSGML v1.0//EN
CALSCALE:GREGORIAN
METHOD:PUBLISH
X-WR-CALNAME:pro Dessau-Roßlau
X-ORIGINAL-URL:https://www.prodessau.de
X-WR-CALDESC:Veranstaltungen für pro Dessau-Roßlau
REFRESH-INTERVAL;VALUE=DURATION:PT1H
X-Robots-Tag:noindex
X-PUBLISHED-TTL:PT1H
BEGIN:VTIMEZONE
TZID:Europe/Berlin
BEGIN:DAYLIGHT
TZOFFSETFROM:+0100
TZOFFSETTO:+0200
TZNAME:CEST
DTSTART:20230326T010000
END:DAYLIGHT
BEGIN:STANDARD
TZOFFSETFROM:+0200
TZOFFSETTO:+0100
TZNAME:CET
DTSTART:20231029T010000
END:STANDARD
BEGIN:DAYLIGHT
TZOFFSETFROM:+0100
TZOFFSETTO:+0200
TZNAME:CEST
DTSTART:20240331T010000
END:DAYLIGHT
BEGIN:STANDARD
TZOFFSETFROM:+0200
TZOFFSETTO:+0100
TZNAME:CET
DTSTART:20241027T010000
END:STANDARD
BEGIN:DAYLIGHT
TZOFFSETFROM:+0100
TZOFFSETTO:+0200
TZNAME:CEST
DTSTART:20250330T010000
END:DAYLIGHT
BEGIN:STANDARD
TZOFFSETFROM:+0200
TZOFFSETTO:+0100
TZNAME:CET
DTSTART:20251026T010000
END:STANDARD
END:VTIMEZONE
BEGIN:VEVENT
DTSTART;TZID=Europe/Berlin:20240609T080000
DTEND;TZID=Europe/Berlin:20240609T180000
DTSTAMP:20260421T142423
CREATED:20240312T200244Z
LAST-MODIFIED:20240312T200311Z
UID:1248-1717920000-1717956000@www.prodessau.de
SUMMARY:Kommunalwahl 2024
DESCRIPTION:Wählen Sie am 09. Juni einen Stadtrat für Ihre Stadt!\nWählen Sie Pro Dessau-Roßlau!
URL:https://www.prodessau.de/event/kommunalwahl-2024/
LOCATION:Ihr Wahllokal\, Dessau-Roßlau
END:VEVENT
BEGIN:VEVENT
DTSTART;TZID=Europe/Berlin:20240617T170000
DTEND;TZID=Europe/Berlin:20240617T193000
DTSTAMP:20260421T142423
CREATED:20240313T084826Z
LAST-MODIFIED:20240313T084826Z
UID:1291-1718643600-1718652600@www.prodessau.de
SUMMARY:Fraktionssitzung
DESCRIPTION:
URL:https://www.prodessau.de/event/fraktionssitzung-6/
LOCATION:Fraktionsbüro\, Poststr. 6\, Dessau-Roßlau\, 06844\, Deutschland
END:VEVENT
BEGIN:VEVENT
DTSTART;TZID=Europe/Berlin:20240619T160000
DTEND;TZID=Europe/Berlin:20240619T193000
DTSTAMP:20260421T142423
CREATED:20240313T084908Z
LAST-MODIFIED:20240313T084908Z
UID:1293-1718812800-1718825400@www.prodessau.de
SUMMARY:Stadtrat
DESCRIPTION:
URL:https://www.prodessau.de/event/stadtrat-3/
LOCATION:DVV
END:VEVENT
END:VCALENDAR